BEGIN:VCALENDAR
VERSION:2.0
PRODID:-//Fontaine-le-Bourg - ECPv6.15.20//NONSGML v1.0//EN
CALSCALE:GREGORIAN
METHOD:PUBLISH
X-WR-CALNAME:Fontaine-le-Bourg
X-ORIGINAL-URL:https://www.fontainelebourg.fr
X-WR-CALDESC:Évènements pour Fontaine-le-Bourg
REFRESH-INTERVAL;VALUE=DURATION:PT1H
X-Robots-Tag:noindex
X-PUBLISHED-TTL:PT1H
BEGIN:VTIMEZONE
TZID:Europe/Paris
BEGIN:DAYLIGHT
TZOFFSETFROM:+0100
TZOFFSETTO:+0200
TZNAME:CEST
DTSTART:20250330T010000
END:DAYLIGHT
BEGIN:STANDARD
TZOFFSETFROM:+0200
TZOFFSETTO:+0100
TZNAME:CET
DTSTART:20251026T010000
END:STANDARD
BEGIN:DAYLIGHT
TZOFFSETFROM:+0100
TZOFFSETTO:+0200
TZNAME:CEST
DTSTART:20260329T010000
END:DAYLIGHT
BEGIN:STANDARD
TZOFFSETFROM:+0200
TZOFFSETTO:+0100
TZNAME:CET
DTSTART:20261025T010000
END:STANDARD
BEGIN:DAYLIGHT
TZOFFSETFROM:+0100
TZOFFSETTO:+0200
TZNAME:CEST
DTSTART:20270328T010000
END:DAYLIGHT
BEGIN:STANDARD
TZOFFSETFROM:+0200
TZOFFSETTO:+0100
TZNAME:CET
DTSTART:20271031T010000
END:STANDARD
END:VTIMEZONE
BEGIN:VEVENT
DTSTART;TZID=Europe/Paris:20260419T160000
DTEND;TZID=Europe/Paris:20260419T180000
DTSTAMP:20260418T230935
CREATED:20260328T150704Z
LAST-MODIFIED:20260328T150704Z
UID:78019-1776614400-1776621600@www.fontainelebourg.fr
SUMMARY:Concert de la Lyre Amicale
DESCRIPTION:
URL:https://www.fontainelebourg.fr/event/concert-de-la-lyre-amicale/
LOCATION:Salle des Tourelles\, D151\, Fontaine-le-Bourg\, 76690\, France
CATEGORIES:Animations
END:VEVENT
BEGIN:VEVENT
DTSTART;TZID=Europe/Paris:20260430T093000
DTEND;TZID=Europe/Paris:20260430T103000
DTSTAMP:20260418T230935
CREATED:20260328T150125Z
LAST-MODIFIED:20260328T150125Z
UID:78005-1777541400-1777545000@www.fontainelebourg.fr
SUMMARY:Bébés Lecteurs
DESCRIPTION:
URL:https://www.fontainelebourg.fr/event/bebes-lecteurs-11/
LOCATION:Bibliothèque de Fontaine-le-Bourg\, 83 rue du Mont-Grimont\, Fontaine-le-Bourg\, 76690
CATEGORIES:Animations
ORGANIZER;CN="Biblioth%C3%A8que de Fontaine-le-Bourg":MAILTO:bibliotheque@fontainelebourg.fr
END:VEVENT
BEGIN:VEVENT
DTSTART;TZID=Europe/Paris:20260506T150000
DTEND;TZID=Europe/Paris:20260506T180000
DTSTAMP:20260418T230935
CREATED:20260328T150538Z
LAST-MODIFIED:20260328T150538Z
UID:78015-1778079600-1778090400@www.fontainelebourg.fr
SUMMARY:Jeux de Société
DESCRIPTION:
URL:https://www.fontainelebourg.fr/event/jeux-de-societe-2/
LOCATION:Bibliothèque de Fontaine-le-Bourg\, 83 rue du Mont-Grimont\, Fontaine-le-Bourg\, 76690
CATEGORIES:Animations
ORGANIZER;CN="Biblioth%C3%A8que de Fontaine-le-Bourg":MAILTO:bibliotheque@fontainelebourg.fr
END:VEVENT
BEGIN:VEVENT
DTSTART;TZID=Europe/Paris:20260508T100000
DTEND;TZID=Europe/Paris:20260508T113000
DTSTAMP:20260418T230935
CREATED:20260418T101222Z
LAST-MODIFIED:20260418T101222Z
UID:78053-1778234400-1778239800@www.fontainelebourg.fr
SUMMARY:Commémoration du 8 mai 1945
DESCRIPTION:
URL:https://www.fontainelebourg.fr/event/commemoration-du-8-mai-1945/
LOCATION:Monument aux Morts\, Place de la Mairie\, Fontaine-le-Bourg\, 76690\, France
CATEGORIES:Évènements
END:VEVENT
BEGIN:VEVENT
DTSTART;TZID=Europe/Paris:20260509T203000
DTEND;TZID=Europe/Paris:20260509T223000
DTSTAMP:20260418T230935
CREATED:20260328T150807Z
LAST-MODIFIED:20260328T150807Z
UID:78021-1778358600-1778365800@www.fontainelebourg.fr
SUMMARY:Concert Vivaldi
DESCRIPTION:
URL:https://www.fontainelebourg.fr/event/concert-vivaldi/
LOCATION:Salle des Tourelles\, D151\, Fontaine-le-Bourg\, 76690\, France
CATEGORIES:Animations
END:VEVENT
BEGIN:VEVENT
DTSTART;TZID=Europe/Paris:20260520T090000
DTEND;TZID=Europe/Paris:20260520T103000
DTSTAMP:20260418T230935
CREATED:20260328T150206Z
LAST-MODIFIED:20260328T150315Z
UID:78007-1779267600-1779273000@www.fontainelebourg.fr
SUMMARY:Bébés Lecteurs
DESCRIPTION:
URL:https://www.fontainelebourg.fr/event/bebes-lecteurs-12/
LOCATION:Bibliothèque de Fontaine-le-Bourg\, 83 rue du Mont-Grimont\, Fontaine-le-Bourg\, 76690
CATEGORIES:Animations
ORGANIZER;CN="Biblioth%C3%A8que de Fontaine-le-Bourg":MAILTO:bibliotheque@fontainelebourg.fr
END:VEVENT
BEGIN:VEVENT
DTSTART;TZID=Europe/Paris:20260604T090000
DTEND;TZID=Europe/Paris:20260604T103000
DTSTAMP:20260418T230935
CREATED:20260328T150350Z
LAST-MODIFIED:20260328T150350Z
UID:78009-1780563600-1780569000@www.fontainelebourg.fr
SUMMARY:Bébés Lecteurs
DESCRIPTION:
URL:https://www.fontainelebourg.fr/event/bebes-lecteurs-13/
LOCATION:Bibliothèque de Fontaine-le-Bourg\, 83 rue du Mont-Grimont\, Fontaine-le-Bourg\, 76690
CATEGORIES:Animations
ORGANIZER;CN="Biblioth%C3%A8que de Fontaine-le-Bourg":MAILTO:bibliotheque@fontainelebourg.fr
END:VEVENT
BEGIN:VEVENT
DTSTART;TZID=Europe/Paris:20260617T150000
DTEND;TZID=Europe/Paris:20260617T180000
DTSTAMP:20260418T230935
CREATED:20260328T150606Z
LAST-MODIFIED:20260328T150606Z
UID:78017-1781708400-1781719200@www.fontainelebourg.fr
SUMMARY:Jeux de Société
DESCRIPTION:
URL:https://www.fontainelebourg.fr/event/jeux-de-societe-3/
LOCATION:Bibliothèque de Fontaine-le-Bourg\, 83 rue du Mont-Grimont\, Fontaine-le-Bourg\, 76690
CATEGORIES:Animations
ORGANIZER;CN="Biblioth%C3%A8que de Fontaine-le-Bourg":MAILTO:bibliotheque@fontainelebourg.fr
END:VEVENT
BEGIN:VEVENT
DTSTART;TZID=Europe/Paris:20260618T090000
DTEND;TZID=Europe/Paris:20260618T103000
DTSTAMP:20260418T230935
CREATED:20260328T150418Z
LAST-MODIFIED:20260328T150418Z
UID:78011-1781773200-1781778600@www.fontainelebourg.fr
SUMMARY:Bébés Lecteurs
DESCRIPTION:
URL:https://www.fontainelebourg.fr/event/bebes-lecteurs-14/
LOCATION:Bibliothèque de Fontaine-le-Bourg\, 83 rue du Mont-Grimont\, Fontaine-le-Bourg\, 76690
CATEGORIES:Animations
ORGANIZER;CN="Biblioth%C3%A8que de Fontaine-le-Bourg":MAILTO:bibliotheque@fontainelebourg.fr
END:VEVENT
BEGIN:VEVENT
DTSTART;VALUE=DATE:20260906
DTEND;VALUE=DATE:20260907
DTSTAMP:20260418T230935
CREATED:20260226T133746Z
LAST-MODIFIED:20260226T133746Z
UID:77788-1788652800-1788739199@www.fontainelebourg.fr
SUMMARY:Le Rouen Gravel Tour
DESCRIPTION:
URL:https://www.fontainelebourg.fr/event/le-rouen-gravel-tour/
LOCATION:Salle Arnaud Girard\, City Stade\, Fontaine-le-Bourg\, 76690\, France
CATEGORIES:Animations
END:VEVENT
END:VCALENDAR